﻿﻿BEGIN:VCALENDAR
BEGIN:VEVENT
UID:soutez-15933@www.firesport.eu
DTSTAMP:20260425T142900Z
DESCRIPTION:Odkaz: http://bl.firesport.eu/soutez-rada-at-15933.html
DTSTART:20260913T100000
DTEND:20260913T170000
LOCATION:HĹ™iĹˇtÄ› RadĂ­ÄŤ
SUMMARY:O PohĂˇr ÄŚHJ RadĂ­ÄŤ
URL:http://bl.firesport.eu/soutez-rada-at-15933.html
END:VEVENT
BEGIN:VEVENT
UID:soutez-15932@www.firesport.eu
DTSTAMP:20260425T142900Z
DESCRIPTION:Odkaz: http://bl.firesport.eu/soutez-rada-at-15932.html
DTSTART:20260912T120000
DTEND:20260912T170000
LOCATION:HĹ™iĹˇtÄ› RadĂ­ÄŤ
SUMMARY:O PohĂˇr ÄŚHJ RadĂ­ÄŤ
URL:http://bl.firesport.eu/soutez-rada-at-15932.html
END:VEVENT
BEGIN:VEVENT
UID:soutez-15931@www.firesport.eu
DTSTAMP:20260425T142900Z
DESCRIPTION:Odkaz: http://bl.firesport.eu/soutez-sedlatany-15931.html
DTSTART:20260816T100000
DTEND:20260816T170000
LOCATION:TrĂ©ninkovĂ© hĹ™iĹˇtÄ› TJ Tatran
SUMMARY:O pohĂˇr SDH SedlÄŤany
URL:http://bl.firesport.eu/soutez-sedlatany-15931.html
END:VEVENT
BEGIN:VEVENT
UID:soutez-15930@www.firesport.eu
DTSTAMP:20260425T142900Z
DESCRIPTION:Odkaz: http://bl.firesport.eu/soutez-sedlatany-15930.html
DTSTART:20260815T120000
DTEND:20260815T170000
LOCATION:TrĂ©ninkovĂ© hĹ™iĹˇtÄ› TJ Tatran
SUMMARY:O pohĂˇr SDH SedlÄŤany
URL:http://bl.firesport.eu/soutez-sedlatany-15930.html
END:VEVENT
BEGIN:VEVENT
UID:soutez-15929@www.firesport.eu
DTSTAMP:20260425T142900Z
DESCRIPTION:Odkaz: http://bl.firesport.eu/soutez-vranovice-15929.html
DTSTART:20260802T100000
DTEND:20260802T170000
LOCATION:HĹ™iĹˇtÄ› Vranovice
SUMMARY:O pohĂˇr SDH Vranovice
URL:http://bl.firesport.eu/soutez-vranovice-15929.html
END:VEVENT
BEGIN:VEVENT
UID:soutez-15928@www.firesport.eu
DTSTAMP:20260425T142900Z
DESCRIPTION:Odkaz: http://bl.firesport.eu/soutez-vranovice-15928.html
DTSTART:20260801T120000
DTEND:20260801T170000
LOCATION:HĹ™iĹˇtÄ› Vranovice
SUMMARY:O pohĂˇr SDH Vranovice
URL:http://bl.firesport.eu/soutez-vranovice-15928.html
END:VEVENT
BEGIN:VEVENT
UID:soutez-15927@www.firesport.eu
DTSTAMP:20260425T142900Z
DESCRIPTION:Odkaz: http://bl.firesport.eu/soutez-broumy-15927.html
DTSTART:20260719T100000
DTEND:20260719T170000
LOCATION:SportovnĂ­ areĂˇl Broumy
SUMMARY:O pohĂˇr SDH Broumy
URL:http://bl.firesport.eu/soutez-broumy-15927.html
END:VEVENT
BEGIN:VEVENT
UID:soutez-15926@www.firesport.eu
DTSTAMP:20260425T142900Z
DESCRIPTION:Odkaz: http://bl.firesport.eu/soutez-broumy-15926.html
DTSTART:20260718T120000
DTEND:20260718T170000
LOCATION:SportovnĂ­ areĂˇl Broumy
SUMMARY:O pohĂˇr SDH Broumy
URL:http://bl.firesport.eu/soutez-broumy-15926.html
END:VEVENT
BEGIN:VEVENT
UID:soutez-15925@www.firesport.eu
DTSTAMP:20260425T142900Z
DESCRIPTION:Odkaz: http://bl.firesport.eu/soutez-skalice-15925.html
DTSTART:20260705T100000
DTEND:20260705T170000
LOCATION:HĹ™iĹˇtÄ› TJ Sokol DalekĂ© DuĹˇnĂ­ky
SUMMARY:O pohĂˇr SDH Sklaice
URL:http://bl.firesport.eu/soutez-skalice-15925.html
END:VEVENT
BEGIN:VEVENT
UID:soutez-15924@www.firesport.eu
DTSTAMP:20260425T142900Z
DESCRIPTION:Odkaz: http://bl.firesport.eu/soutez-skalice-15924.html
DTSTART:20260704T120000
DTEND:20260704T170000
LOCATION:HĹ™iĹˇtÄ› TJ Sokol DalekĂ© DuĹˇnĂ­ky
SUMMARY:O pohĂˇr SDH Sklaice
URL:http://bl.firesport.eu/soutez-skalice-15924.html
END:VEVENT
BEGIN:VEVENT
UID:soutez-15923@www.firesport.eu
DTSTAMP:20260425T142900Z
DESCRIPTION:Odkaz: http://bl.firesport.eu/soutez-hvozdec-15923.html
DTSTART:20260628T100000
DTEND:20260628T170000
LOCATION:
SUMMARY:O pohĂˇr SDH Hvozdec
URL:http://bl.firesport.eu/soutez-hvozdec-15923.html
END:VEVENT
BEGIN:VEVENT
UID:soutez-15922@www.firesport.eu
DTSTAMP:20260425T142900Z
DESCRIPTION:Odkaz: http://bl.firesport.eu/soutez-hvozdec-15922.html
DTSTART:20260627T120000
DTEND:20260627T170000
LOCATION:
SUMMARY:O pohĂˇr SDH Hvozdec
URL:http://bl.firesport.eu/soutez-hvozdec-15922.html
END:VEVENT
BEGIN:VEVENT
UID:soutez-15921@www.firesport.eu
DTSTAMP:20260425T142900Z
DESCRIPTION:Odkaz: http://bl.firesport.eu/soutez-zalullany-15921.html
DTSTART:20260606T120000
DTEND:20260606T170000
LOCATION: ArĂ©na ZaluĹľany
SUMMARY:O pohĂˇr SDH ZaluĹľany
URL:http://bl.firesport.eu/soutez-zalullany-15921.html
END:VEVENT
END:VCALENDAR